BEGIN:VCALENDAR
VERSION:2.0
PRODID:-//Dom Aukcyjny Tempus - ECPv5.16.1.1//NONSGML v1.0//EN
CALSCALE:GREGORIAN
METHOD:PUBLISH
X-WR-CALNAME:Dom Aukcyjny Tempus
X-ORIGINAL-URL:https://datempus.pl
X-WR-CALDESC:Wydarzenia dla Dom Aukcyjny Tempus
BEGIN:VTIMEZONE
TZID:Europe/Warsaw
BEGIN:DAYLIGHT
TZOFFSETFROM:+0100
TZOFFSETTO:+0200
TZNAME:CEST
DTSTART:20190331T010000
END:DAYLIGHT
BEGIN:STANDARD
TZOFFSETFROM:+0200
TZOFFSETTO:+0100
TZNAME:CET
DTSTART:20191027T010000
END:STANDARD
END:VTIMEZONE
BEGIN:VEVENT
DTSTART;TZID=Europe/Warsaw:20191025T170000
DTEND;TZID=Europe/Warsaw:20191025T220000
DTSTAMP:20260419T193741
CREATED:20191020T163049Z
LAST-MODIFIED:20191020T163049Z
UID:346-1572022800-1572040800@datempus.pl
SUMMARY:Sesja wykładowa przed jubileuszową 21 aukcją AN Niemczyk
DESCRIPTION:Zapraszamy na cykl wykładów w piątek od 17:00 czyli dzień przed sobotnią aukcją: \nTytuł sesji wykładowej: \,\,Kolekcje numizmatyczne – pasja i inwestycja a współczesne zagrożenia.” \nTematy wystąpień: \ndr Mieczysław Morka (Warszawa)\,\nKolekcja Potockich zaginiona i odnalezione\, ale bez „Złota” \nMateusz Woźniak (Kraków)\,\nNumizmatyka krakowska w dobie wojen światowych \nJacek Sarosiek (Białystok)\,\n„Mamy własną policję\, administrację\, pocztę\, będziemy mieć i własną walutę”\, czyli o pieniądzach getta łódzkiego \ndr Szymon Krajnik (Katedra Prawa Karnego\, Akademia Leona Koźmińskiego)\,\nKolekcjonowanie monet a prawo – wybrane problemy \nOczywiście będziemy obecni i serdecznie zapraszamy do udziału i spotkania.
URL:https://datempus.pl/wydarzenie/sesja-wykladowa-przed-jubileuszowa-21-aukcja-an-niemczyk/
LOCATION:Hotel Westin\, Warszawa\, al. Jana Pawła II 21\, Warszawa\, 00-854\, Polska
END:VEVENT
END:VCALENDAR